BEGIN:VCALENDAR
VERSION:2.0
PRODID:-//Gorebridge Community Development Trust - ECPv6.15.20//NONSGML v1.0//EN
CALSCALE:GREGORIAN
METHOD:PUBLISH
X-ORIGINAL-URL:https://gorebridge.org.uk
X-WR-CALDESC:Events for Gorebridge Community Development Trust
REFRESH-INTERVAL;VALUE=DURATION:PT1H
X-Robots-Tag:noindex
X-PUBLISHED-TTL:PT1H
BEGIN:VTIMEZONE
TZID:Europe/London
BEGIN:DAYLIGHT
TZOFFSETFROM:+0000
TZOFFSETTO:+0100
TZNAME:BST
DTSTART:20230326T010000
END:DAYLIGHT
BEGIN:STANDARD
TZOFFSETFROM:+0100
TZOFFSETTO:+0000
TZNAME:GMT
DTSTART:20231029T010000
END:STANDARD
BEGIN:DAYLIGHT
TZOFFSETFROM:+0000
TZOFFSETTO:+0100
TZNAME:BST
DTSTART:20240331T010000
END:DAYLIGHT
BEGIN:STANDARD
TZOFFSETFROM:+0100
TZOFFSETTO:+0000
TZNAME:GMT
DTSTART:20241027T010000
END:STANDARD
BEGIN:DAYLIGHT
TZOFFSETFROM:+0000
TZOFFSETTO:+0100
TZNAME:BST
DTSTART:20250330T010000
END:DAYLIGHT
BEGIN:STANDARD
TZOFFSETFROM:+0100
TZOFFSETTO:+0000
TZNAME:GMT
DTSTART:20251026T010000
END:STANDARD
END:VTIMEZONE
BEGIN:VEVENT
DTSTART;TZID=Europe/London:20241221T090000
DTEND;TZID=Europe/London:20241221T111500
DTSTAMP:20260424T060217
CREATED:20240605T122912Z
LAST-MODIFIED:20240605T122912Z
UID:11073-1734771600-1734779700@gorebridge.org.uk
SUMMARY:Sportif Judu (External)
DESCRIPTION:Judo class at the Gorebridge Beacon on Saturday mornings. \n\n9 – 9:45 5 – 6 years\n9:45 – 10:30 7 – 8 years\n10:30 – 11:15 9\,10\, 11 years\n\nThis is an external booking\, please contact Hannah for more information (exact times which may change). \nHannah Wood\nPro Coach & Project Coordinator\nSportif Lifestyle Ltd\n140 Galashiels Road\nStow\nTD1 2RA\nMbl: 07907 308876\nhannah@sportiflifestyle.com
URL:https://gorebridge.org.uk/upcomingevents/sportif-judu-external/2024-12-21/
CATEGORIES:Events,Gorebridge Beacon
END:VEVENT
BEGIN:VEVENT
DTSTART;TZID=Europe/London:20241214T090000
DTEND;TZID=Europe/London:20241214T111500
DTSTAMP:20260424T060217
CREATED:20240605T122912Z
LAST-MODIFIED:20240605T122912Z
UID:11072-1734166800-1734174900@gorebridge.org.uk
SUMMARY:Sportif Judu (External)
DESCRIPTION:Judo class at the Gorebridge Beacon on Saturday mornings. \n\n9 – 9:45 5 – 6 years\n9:45 – 10:30 7 – 8 years\n10:30 – 11:15 9\,10\, 11 years\n\nThis is an external booking\, please contact Hannah for more information (exact times which may change). \nHannah Wood\nPro Coach & Project Coordinator\nSportif Lifestyle Ltd\n140 Galashiels Road\nStow\nTD1 2RA\nMbl: 07907 308876\nhannah@sportiflifestyle.com
URL:https://gorebridge.org.uk/upcomingevents/sportif-judu-external/2024-12-14/
CATEGORIES:Events,Gorebridge Beacon
END:VEVENT
BEGIN:VEVENT
DTSTART;TZID=Europe/London:20241207T090000
DTEND;TZID=Europe/London:20241207T111500
DTSTAMP:20260424T060217
CREATED:20240605T122912Z
LAST-MODIFIED:20240605T122912Z
UID:11071-1733562000-1733570100@gorebridge.org.uk
SUMMARY:Sportif Judu (External)
DESCRIPTION:Judo class at the Gorebridge Beacon on Saturday mornings. \n\n9 – 9:45 5 – 6 years\n9:45 – 10:30 7 – 8 years\n10:30 – 11:15 9\,10\, 11 years\n\nThis is an external booking\, please contact Hannah for more information (exact times which may change). \nHannah Wood\nPro Coach & Project Coordinator\nSportif Lifestyle Ltd\n140 Galashiels Road\nStow\nTD1 2RA\nMbl: 07907 308876\nhannah@sportiflifestyle.com
URL:https://gorebridge.org.uk/upcomingevents/sportif-judu-external/2024-12-07/
CATEGORIES:Events,Gorebridge Beacon
END:VEVENT
BEGIN:VEVENT
DTSTART;TZID=Europe/London:20241130T090000
DTEND;TZID=Europe/London:20241130T111500
DTSTAMP:20260424T060217
CREATED:20240605T122912Z
LAST-MODIFIED:20240605T122912Z
UID:11070-1732957200-1732965300@gorebridge.org.uk
SUMMARY:Sportif Judu (External)
DESCRIPTION:Judo class at the Gorebridge Beacon on Saturday mornings. \n\n9 – 9:45 5 – 6 years\n9:45 – 10:30 7 – 8 years\n10:30 – 11:15 9\,10\, 11 years\n\nThis is an external booking\, please contact Hannah for more information (exact times which may change). \nHannah Wood\nPro Coach & Project Coordinator\nSportif Lifestyle Ltd\n140 Galashiels Road\nStow\nTD1 2RA\nMbl: 07907 308876\nhannah@sportiflifestyle.com
URL:https://gorebridge.org.uk/upcomingevents/sportif-judu-external/2024-11-30/
CATEGORIES:Events,Gorebridge Beacon
END:VEVENT
BEGIN:VEVENT
DTSTART;TZID=Europe/London:20241123T090000
DTEND;TZID=Europe/London:20241123T111500
DTSTAMP:20260424T060217
CREATED:20240605T122912Z
LAST-MODIFIED:20240605T122912Z
UID:11069-1732352400-1732360500@gorebridge.org.uk
SUMMARY:Sportif Judu (External)
DESCRIPTION:Judo class at the Gorebridge Beacon on Saturday mornings. \n\n9 – 9:45 5 – 6 years\n9:45 – 10:30 7 – 8 years\n10:30 – 11:15 9\,10\, 11 years\n\nThis is an external booking\, please contact Hannah for more information (exact times which may change). \nHannah Wood\nPro Coach & Project Coordinator\nSportif Lifestyle Ltd\n140 Galashiels Road\nStow\nTD1 2RA\nMbl: 07907 308876\nhannah@sportiflifestyle.com
URL:https://gorebridge.org.uk/upcomingevents/sportif-judu-external/2024-11-23/
CATEGORIES:Events,Gorebridge Beacon
END:VEVENT
BEGIN:VEVENT
DTSTART;TZID=Europe/London:20241116T090000
DTEND;TZID=Europe/London:20241116T111500
DTSTAMP:20260424T060217
CREATED:20240605T122912Z
LAST-MODIFIED:20240605T122912Z
UID:11068-1731747600-1731755700@gorebridge.org.uk
SUMMARY:Sportif Judu (External)
DESCRIPTION:Judo class at the Gorebridge Beacon on Saturday mornings. \n\n9 – 9:45 5 – 6 years\n9:45 – 10:30 7 – 8 years\n10:30 – 11:15 9\,10\, 11 years\n\nThis is an external booking\, please contact Hannah for more information (exact times which may change). \nHannah Wood\nPro Coach & Project Coordinator\nSportif Lifestyle Ltd\n140 Galashiels Road\nStow\nTD1 2RA\nMbl: 07907 308876\nhannah@sportiflifestyle.com
URL:https://gorebridge.org.uk/upcomingevents/sportif-judu-external/2024-11-16/
CATEGORIES:Events,Gorebridge Beacon
END:VEVENT
BEGIN:VEVENT
DTSTART;TZID=Europe/London:20241109T090000
DTEND;TZID=Europe/London:20241109T111500
DTSTAMP:20260424T060217
CREATED:20240605T122912Z
LAST-MODIFIED:20240605T122912Z
UID:11067-1731142800-1731150900@gorebridge.org.uk
SUMMARY:Sportif Judu (External)
DESCRIPTION:Judo class at the Gorebridge Beacon on Saturday mornings. \n\n9 – 9:45 5 – 6 years\n9:45 – 10:30 7 – 8 years\n10:30 – 11:15 9\,10\, 11 years\n\nThis is an external booking\, please contact Hannah for more information (exact times which may change). \nHannah Wood\nPro Coach & Project Coordinator\nSportif Lifestyle Ltd\n140 Galashiels Road\nStow\nTD1 2RA\nMbl: 07907 308876\nhannah@sportiflifestyle.com
URL:https://gorebridge.org.uk/upcomingevents/sportif-judu-external/2024-11-09/
CATEGORIES:Events,Gorebridge Beacon
END:VEVENT
BEGIN:VEVENT
DTSTART;TZID=Europe/London:20241102T090000
DTEND;TZID=Europe/London:20241102T111500
DTSTAMP:20260424T060217
CREATED:20240605T122912Z
LAST-MODIFIED:20240605T122912Z
UID:11066-1730538000-1730546100@gorebridge.org.uk
SUMMARY:Sportif Judu (External)
DESCRIPTION:Judo class at the Gorebridge Beacon on Saturday mornings. \n\n9 – 9:45 5 – 6 years\n9:45 – 10:30 7 – 8 years\n10:30 – 11:15 9\,10\, 11 years\n\nThis is an external booking\, please contact Hannah for more information (exact times which may change). \nHannah Wood\nPro Coach & Project Coordinator\nSportif Lifestyle Ltd\n140 Galashiels Road\nStow\nTD1 2RA\nMbl: 07907 308876\nhannah@sportiflifestyle.com
URL:https://gorebridge.org.uk/upcomingevents/sportif-judu-external/2024-11-02/
CATEGORIES:Events,Gorebridge Beacon
END:VEVENT
BEGIN:VEVENT
DTSTART;TZID=Europe/London:20241026T090000
DTEND;TZID=Europe/London:20241026T111500
DTSTAMP:20260424T060217
CREATED:20240605T122912Z
LAST-MODIFIED:20240605T122912Z
UID:11065-1729933200-1729941300@gorebridge.org.uk
SUMMARY:Sportif Judu (External)
DESCRIPTION:Judo class at the Gorebridge Beacon on Saturday mornings. \n\n9 – 9:45 5 – 6 years\n9:45 – 10:30 7 – 8 years\n10:30 – 11:15 9\,10\, 11 years\n\nThis is an external booking\, please contact Hannah for more information (exact times which may change). \nHannah Wood\nPro Coach & Project Coordinator\nSportif Lifestyle Ltd\n140 Galashiels Road\nStow\nTD1 2RA\nMbl: 07907 308876\nhannah@sportiflifestyle.com
URL:https://gorebridge.org.uk/upcomingevents/sportif-judu-external/2024-10-26/
CATEGORIES:Events,Gorebridge Beacon
END:VEVENT
BEGIN:VEVENT
DTSTART;TZID=Europe/London:20241019T090000
DTEND;TZID=Europe/London:20241019T111500
DTSTAMP:20260424T060217
CREATED:20240605T122912Z
LAST-MODIFIED:20240605T122912Z
UID:11064-1729328400-1729336500@gorebridge.org.uk
SUMMARY:Sportif Judu (External)
DESCRIPTION:Judo class at the Gorebridge Beacon on Saturday mornings. \n\n9 – 9:45 5 – 6 years\n9:45 – 10:30 7 – 8 years\n10:30 – 11:15 9\,10\, 11 years\n\nThis is an external booking\, please contact Hannah for more information (exact times which may change). \nHannah Wood\nPro Coach & Project Coordinator\nSportif Lifestyle Ltd\n140 Galashiels Road\nStow\nTD1 2RA\nMbl: 07907 308876\nhannah@sportiflifestyle.com
URL:https://gorebridge.org.uk/upcomingevents/sportif-judu-external/2024-10-19/
CATEGORIES:Events,Gorebridge Beacon
END:VEVENT
BEGIN:VEVENT
DTSTART;TZID=Europe/London:20241012T090000
DTEND;TZID=Europe/London:20241012T111500
DTSTAMP:20260424T060217
CREATED:20240605T122912Z
LAST-MODIFIED:20240605T122912Z
UID:11063-1728723600-1728731700@gorebridge.org.uk
SUMMARY:Sportif Judu (External)
DESCRIPTION:Judo class at the Gorebridge Beacon on Saturday mornings. \n\n9 – 9:45 5 – 6 years\n9:45 – 10:30 7 – 8 years\n10:30 – 11:15 9\,10\, 11 years\n\nThis is an external booking\, please contact Hannah for more information (exact times which may change). \nHannah Wood\nPro Coach & Project Coordinator\nSportif Lifestyle Ltd\n140 Galashiels Road\nStow\nTD1 2RA\nMbl: 07907 308876\nhannah@sportiflifestyle.com
URL:https://gorebridge.org.uk/upcomingevents/sportif-judu-external/2024-10-12/
CATEGORIES:Events,Gorebridge Beacon
END:VEVENT
BEGIN:VEVENT
DTSTART;TZID=Europe/London:20241005T090000
DTEND;TZID=Europe/London:20241005T111500
DTSTAMP:20260424T060217
CREATED:20240605T122912Z
LAST-MODIFIED:20240605T122912Z
UID:11062-1728118800-1728126900@gorebridge.org.uk
SUMMARY:Sportif Judu (External)
DESCRIPTION:Judo class at the Gorebridge Beacon on Saturday mornings. \n\n9 – 9:45 5 – 6 years\n9:45 – 10:30 7 – 8 years\n10:30 – 11:15 9\,10\, 11 years\n\nThis is an external booking\, please contact Hannah for more information (exact times which may change). \nHannah Wood\nPro Coach & Project Coordinator\nSportif Lifestyle Ltd\n140 Galashiels Road\nStow\nTD1 2RA\nMbl: 07907 308876\nhannah@sportiflifestyle.com
URL:https://gorebridge.org.uk/upcomingevents/sportif-judu-external/2024-10-05/
CATEGORIES:Events,Gorebridge Beacon
END:VEVENT
BEGIN:VEVENT
DTSTART;TZID=Europe/London:20240928T090000
DTEND;TZID=Europe/London:20240928T111500
DTSTAMP:20260424T060217
CREATED:20240605T122912Z
LAST-MODIFIED:20240605T122912Z
UID:11061-1727514000-1727522100@gorebridge.org.uk
SUMMARY:Sportif Judu (External)
DESCRIPTION:Judo class at the Gorebridge Beacon on Saturday mornings. \n\n9 – 9:45 5 – 6 years\n9:45 – 10:30 7 – 8 years\n10:30 – 11:15 9\,10\, 11 years\n\nThis is an external booking\, please contact Hannah for more information (exact times which may change). \nHannah Wood\nPro Coach & Project Coordinator\nSportif Lifestyle Ltd\n140 Galashiels Road\nStow\nTD1 2RA\nMbl: 07907 308876\nhannah@sportiflifestyle.com
URL:https://gorebridge.org.uk/upcomingevents/sportif-judu-external/2024-09-28/
CATEGORIES:Events,Gorebridge Beacon
END:VEVENT
BEGIN:VEVENT
DTSTART;TZID=Europe/London:20240921T090000
DTEND;TZID=Europe/London:20240921T111500
DTSTAMP:20260424T060217
CREATED:20240605T122912Z
LAST-MODIFIED:20240605T122912Z
UID:11060-1726909200-1726917300@gorebridge.org.uk
SUMMARY:Sportif Judu (External)
DESCRIPTION:Judo class at the Gorebridge Beacon on Saturday mornings. \n\n9 – 9:45 5 – 6 years\n9:45 – 10:30 7 – 8 years\n10:30 – 11:15 9\,10\, 11 years\n\nThis is an external booking\, please contact Hannah for more information (exact times which may change). \nHannah Wood\nPro Coach & Project Coordinator\nSportif Lifestyle Ltd\n140 Galashiels Road\nStow\nTD1 2RA\nMbl: 07907 308876\nhannah@sportiflifestyle.com
URL:https://gorebridge.org.uk/upcomingevents/sportif-judu-external/2024-09-21/
CATEGORIES:Events,Gorebridge Beacon
END:VEVENT
BEGIN:VEVENT
DTSTART;TZID=Europe/London:20240914T090000
DTEND;TZID=Europe/London:20240914T111500
DTSTAMP:20260424T060217
CREATED:20240605T122912Z
LAST-MODIFIED:20240605T122912Z
UID:11059-1726304400-1726312500@gorebridge.org.uk
SUMMARY:Sportif Judu (External)
DESCRIPTION:Judo class at the Gorebridge Beacon on Saturday mornings. \n\n9 – 9:45 5 – 6 years\n9:45 – 10:30 7 – 8 years\n10:30 – 11:15 9\,10\, 11 years\n\nThis is an external booking\, please contact Hannah for more information (exact times which may change). \nHannah Wood\nPro Coach & Project Coordinator\nSportif Lifestyle Ltd\n140 Galashiels Road\nStow\nTD1 2RA\nMbl: 07907 308876\nhannah@sportiflifestyle.com
URL:https://gorebridge.org.uk/upcomingevents/sportif-judu-external/2024-09-14/
CATEGORIES:Events,Gorebridge Beacon
END:VEVENT
BEGIN:VEVENT
DTSTART;TZID=Europe/London:20240907T090000
DTEND;TZID=Europe/London:20240907T111500
DTSTAMP:20260424T060217
CREATED:20240605T122912Z
LAST-MODIFIED:20240605T122912Z
UID:11058-1725699600-1725707700@gorebridge.org.uk
SUMMARY:Sportif Judu (External)
DESCRIPTION:Judo class at the Gorebridge Beacon on Saturday mornings. \n\n9 – 9:45 5 – 6 years\n9:45 – 10:30 7 – 8 years\n10:30 – 11:15 9\,10\, 11 years\n\nThis is an external booking\, please contact Hannah for more information (exact times which may change). \nHannah Wood\nPro Coach & Project Coordinator\nSportif Lifestyle Ltd\n140 Galashiels Road\nStow\nTD1 2RA\nMbl: 07907 308876\nhannah@sportiflifestyle.com
URL:https://gorebridge.org.uk/upcomingevents/sportif-judu-external/2024-09-07/
CATEGORIES:Events,Gorebridge Beacon
END:VEVENT
BEGIN:VEVENT
DTSTART;TZID=Europe/London:20240831T090000
DTEND;TZID=Europe/London:20240831T111500
DTSTAMP:20260424T060217
CREATED:20240605T122912Z
LAST-MODIFIED:20240605T122912Z
UID:11057-1725094800-1725102900@gorebridge.org.uk
SUMMARY:Sportif Judu (External)
DESCRIPTION:Judo class at the Gorebridge Beacon on Saturday mornings. \n\n9 – 9:45 5 – 6 years\n9:45 – 10:30 7 – 8 years\n10:30 – 11:15 9\,10\, 11 years\n\nThis is an external booking\, please contact Hannah for more information (exact times which may change). \nHannah Wood\nPro Coach & Project Coordinator\nSportif Lifestyle Ltd\n140 Galashiels Road\nStow\nTD1 2RA\nMbl: 07907 308876\nhannah@sportiflifestyle.com
URL:https://gorebridge.org.uk/upcomingevents/sportif-judu-external/2024-08-31/
CATEGORIES:Events,Gorebridge Beacon
END:VEVENT
BEGIN:VEVENT
DTSTART;TZID=Europe/London:20240824T090000
DTEND;TZID=Europe/London:20240824T111500
DTSTAMP:20260424T060217
CREATED:20240605T122912Z
LAST-MODIFIED:20240605T122912Z
UID:11056-1724490000-1724498100@gorebridge.org.uk
SUMMARY:Sportif Judu (External)
DESCRIPTION:Judo class at the Gorebridge Beacon on Saturday mornings. \n\n9 – 9:45 5 – 6 years\n9:45 – 10:30 7 – 8 years\n10:30 – 11:15 9\,10\, 11 years\n\nThis is an external booking\, please contact Hannah for more information (exact times which may change). \nHannah Wood\nPro Coach & Project Coordinator\nSportif Lifestyle Ltd\n140 Galashiels Road\nStow\nTD1 2RA\nMbl: 07907 308876\nhannah@sportiflifestyle.com
URL:https://gorebridge.org.uk/upcomingevents/sportif-judu-external/2024-08-24/
CATEGORIES:Events,Gorebridge Beacon
END:VEVENT
BEGIN:VEVENT
DTSTART;TZID=Europe/London:20240817T090000
DTEND;TZID=Europe/London:20240817T111500
DTSTAMP:20260424T060217
CREATED:20240605T122912Z
LAST-MODIFIED:20240605T122912Z
UID:11055-1723885200-1723893300@gorebridge.org.uk
SUMMARY:Sportif Judu (External)
DESCRIPTION:Judo class at the Gorebridge Beacon on Saturday mornings. \n\n9 – 9:45 5 – 6 years\n9:45 – 10:30 7 – 8 years\n10:30 – 11:15 9\,10\, 11 years\n\nThis is an external booking\, please contact Hannah for more information (exact times which may change). \nHannah Wood\nPro Coach & Project Coordinator\nSportif Lifestyle Ltd\n140 Galashiels Road\nStow\nTD1 2RA\nMbl: 07907 308876\nhannah@sportiflifestyle.com
URL:https://gorebridge.org.uk/upcomingevents/sportif-judu-external/2024-08-17/
CATEGORIES:Events,Gorebridge Beacon
END:VEVENT
BEGIN:VEVENT
DTSTART;TZID=Europe/London:20240810T090000
DTEND;TZID=Europe/London:20240810T111500
DTSTAMP:20260424T060217
CREATED:20240605T122912Z
LAST-MODIFIED:20240605T122912Z
UID:11054-1723280400-1723288500@gorebridge.org.uk
SUMMARY:Sportif Judu (External)
DESCRIPTION:Judo class at the Gorebridge Beacon on Saturday mornings. \n\n9 – 9:45 5 – 6 years\n9:45 – 10:30 7 – 8 years\n10:30 – 11:15 9\,10\, 11 years\n\nThis is an external booking\, please contact Hannah for more information (exact times which may change). \nHannah Wood\nPro Coach & Project Coordinator\nSportif Lifestyle Ltd\n140 Galashiels Road\nStow\nTD1 2RA\nMbl: 07907 308876\nhannah@sportiflifestyle.com
URL:https://gorebridge.org.uk/upcomingevents/sportif-judu-external/2024-08-10/
CATEGORIES:Events,Gorebridge Beacon
END:VEVENT
BEGIN:VEVENT
DTSTART;TZID=Europe/London:20240803T090000
DTEND;TZID=Europe/London:20240803T111500
DTSTAMP:20260424T060217
CREATED:20240605T122912Z
LAST-MODIFIED:20240605T122912Z
UID:11053-1722675600-1722683700@gorebridge.org.uk
SUMMARY:Sportif Judu (External)
DESCRIPTION:Judo class at the Gorebridge Beacon on Saturday mornings. \n\n9 – 9:45 5 – 6 years\n9:45 – 10:30 7 – 8 years\n10:30 – 11:15 9\,10\, 11 years\n\nThis is an external booking\, please contact Hannah for more information (exact times which may change). \nHannah Wood\nPro Coach & Project Coordinator\nSportif Lifestyle Ltd\n140 Galashiels Road\nStow\nTD1 2RA\nMbl: 07907 308876\nhannah@sportiflifestyle.com
URL:https://gorebridge.org.uk/upcomingevents/sportif-judu-external/2024-08-03/
CATEGORIES:Events,Gorebridge Beacon
END:VEVENT
BEGIN:VEVENT
DTSTART;TZID=Europe/London:20240727T090000
DTEND;TZID=Europe/London:20240727T111500
DTSTAMP:20260424T060217
CREATED:20240605T122912Z
LAST-MODIFIED:20240605T122912Z
UID:11052-1722070800-1722078900@gorebridge.org.uk
SUMMARY:Sportif Judu (External)
DESCRIPTION:Judo class at the Gorebridge Beacon on Saturday mornings. \n\n9 – 9:45 5 – 6 years\n9:45 – 10:30 7 – 8 years\n10:30 – 11:15 9\,10\, 11 years\n\nThis is an external booking\, please contact Hannah for more information (exact times which may change). \nHannah Wood\nPro Coach & Project Coordinator\nSportif Lifestyle Ltd\n140 Galashiels Road\nStow\nTD1 2RA\nMbl: 07907 308876\nhannah@sportiflifestyle.com
URL:https://gorebridge.org.uk/upcomingevents/sportif-judu-external/2024-07-27/
CATEGORIES:Events,Gorebridge Beacon
END:VEVENT
BEGIN:VEVENT
DTSTART;TZID=Europe/London:20240720T090000
DTEND;TZID=Europe/London:20240720T111500
DTSTAMP:20260424T060217
CREATED:20240605T122912Z
LAST-MODIFIED:20240605T122912Z
UID:11051-1721466000-1721474100@gorebridge.org.uk
SUMMARY:Sportif Judu (External)
DESCRIPTION:Judo class at the Gorebridge Beacon on Saturday mornings. \n\n9 – 9:45 5 – 6 years\n9:45 – 10:30 7 – 8 years\n10:30 – 11:15 9\,10\, 11 years\n\nThis is an external booking\, please contact Hannah for more information (exact times which may change). \nHannah Wood\nPro Coach & Project Coordinator\nSportif Lifestyle Ltd\n140 Galashiels Road\nStow\nTD1 2RA\nMbl: 07907 308876\nhannah@sportiflifestyle.com
URL:https://gorebridge.org.uk/upcomingevents/sportif-judu-external/2024-07-20/
CATEGORIES:Events,Gorebridge Beacon
END:VEVENT
BEGIN:VEVENT
DTSTART;TZID=Europe/London:20240713T090000
DTEND;TZID=Europe/London:20240713T111500
DTSTAMP:20260424T060217
CREATED:20240605T122912Z
LAST-MODIFIED:20240605T122912Z
UID:11050-1720861200-1720869300@gorebridge.org.uk
SUMMARY:Sportif Judu (External)
DESCRIPTION:Judo class at the Gorebridge Beacon on Saturday mornings. \n\n9 – 9:45 5 – 6 years\n9:45 – 10:30 7 – 8 years\n10:30 – 11:15 9\,10\, 11 years\n\nThis is an external booking\, please contact Hannah for more information (exact times which may change). \nHannah Wood\nPro Coach & Project Coordinator\nSportif Lifestyle Ltd\n140 Galashiels Road\nStow\nTD1 2RA\nMbl: 07907 308876\nhannah@sportiflifestyle.com
URL:https://gorebridge.org.uk/upcomingevents/sportif-judu-external/2024-07-13/
CATEGORIES:Events,Gorebridge Beacon
END:VEVENT
BEGIN:VEVENT
DTSTART;TZID=Europe/London:20240706T090000
DTEND;TZID=Europe/London:20240706T111500
DTSTAMP:20260424T060217
CREATED:20240605T122912Z
LAST-MODIFIED:20240605T122912Z
UID:11049-1720256400-1720264500@gorebridge.org.uk
SUMMARY:Sportif Judu (External)
DESCRIPTION:Judo class at the Gorebridge Beacon on Saturday mornings. \n\n9 – 9:45 5 – 6 years\n9:45 – 10:30 7 – 8 years\n10:30 – 11:15 9\,10\, 11 years\n\nThis is an external booking\, please contact Hannah for more information (exact times which may change). \nHannah Wood\nPro Coach & Project Coordinator\nSportif Lifestyle Ltd\n140 Galashiels Road\nStow\nTD1 2RA\nMbl: 07907 308876\nhannah@sportiflifestyle.com
URL:https://gorebridge.org.uk/upcomingevents/sportif-judu-external/2024-07-06/
CATEGORIES:Events,Gorebridge Beacon
END:VEVENT
BEGIN:VEVENT
DTSTART;TZID=Europe/London:20240629T090000
DTEND;TZID=Europe/London:20240629T111500
DTSTAMP:20260424T060217
CREATED:20240605T122912Z
LAST-MODIFIED:20240605T122912Z
UID:11048-1719651600-1719659700@gorebridge.org.uk
SUMMARY:Sportif Judu (External)
DESCRIPTION:Judo class at the Gorebridge Beacon on Saturday mornings. \n\n9 – 9:45 5 – 6 years\n9:45 – 10:30 7 – 8 years\n10:30 – 11:15 9\,10\, 11 years\n\nThis is an external booking\, please contact Hannah for more information (exact times which may change). \nHannah Wood\nPro Coach & Project Coordinator\nSportif Lifestyle Ltd\n140 Galashiels Road\nStow\nTD1 2RA\nMbl: 07907 308876\nhannah@sportiflifestyle.com
URL:https://gorebridge.org.uk/upcomingevents/sportif-judu-external/2024-06-29/
CATEGORIES:Events,Gorebridge Beacon
END:VEVENT
BEGIN:VEVENT
DTSTART;TZID=Europe/London:20240622T090000
DTEND;TZID=Europe/London:20240622T111500
DTSTAMP:20260424T060217
CREATED:20240605T122912Z
LAST-MODIFIED:20240605T122912Z
UID:11047-1719046800-1719054900@gorebridge.org.uk
SUMMARY:Sportif Judu (External)
DESCRIPTION:Judo class at the Gorebridge Beacon on Saturday mornings. \n\n9 – 9:45 5 – 6 years\n9:45 – 10:30 7 – 8 years\n10:30 – 11:15 9\,10\, 11 years\n\nThis is an external booking\, please contact Hannah for more information (exact times which may change). \nHannah Wood\nPro Coach & Project Coordinator\nSportif Lifestyle Ltd\n140 Galashiels Road\nStow\nTD1 2RA\nMbl: 07907 308876\nhannah@sportiflifestyle.com
URL:https://gorebridge.org.uk/upcomingevents/sportif-judu-external/2024-06-22/
CATEGORIES:Events,Gorebridge Beacon
END:VEVENT
BEGIN:VEVENT
DTSTART;TZID=Europe/London:20240615T090000
DTEND;TZID=Europe/London:20240615T111500
DTSTAMP:20260424T060217
CREATED:20240605T122912Z
LAST-MODIFIED:20240605T122912Z
UID:11046-1718442000-1718450100@gorebridge.org.uk
SUMMARY:Sportif Judu (External)
DESCRIPTION:Judo class at the Gorebridge Beacon on Saturday mornings. \n\n9 – 9:45 5 – 6 years\n9:45 – 10:30 7 – 8 years\n10:30 – 11:15 9\,10\, 11 years\n\nThis is an external booking\, please contact Hannah for more information (exact times which may change). \nHannah Wood\nPro Coach & Project Coordinator\nSportif Lifestyle Ltd\n140 Galashiels Road\nStow\nTD1 2RA\nMbl: 07907 308876\nhannah@sportiflifestyle.com
URL:https://gorebridge.org.uk/upcomingevents/sportif-judu-external/2024-06-15/
CATEGORIES:Events,Gorebridge Beacon
END:VEVENT
BEGIN:VEVENT
DTSTART;TZID=Europe/London:20240608T090000
DTEND;TZID=Europe/London:20240608T111500
DTSTAMP:20260424T060217
CREATED:20240605T122912Z
LAST-MODIFIED:20240605T122912Z
UID:11045-1717837200-1717845300@gorebridge.org.uk
SUMMARY:Sportif Judu (External)
DESCRIPTION:Judo class at the Gorebridge Beacon on Saturday mornings. \n\n9 – 9:45 5 – 6 years\n9:45 – 10:30 7 – 8 years\n10:30 – 11:15 9\,10\, 11 years\n\nThis is an external booking\, please contact Hannah for more information (exact times which may change). \nHannah Wood\nPro Coach & Project Coordinator\nSportif Lifestyle Ltd\n140 Galashiels Road\nStow\nTD1 2RA\nMbl: 07907 308876\nhannah@sportiflifestyle.com
URL:https://gorebridge.org.uk/upcomingevents/sportif-judu-external/2024-06-08/
CATEGORIES:Events,Gorebridge Beacon
END:VEVENT
BEGIN:VEVENT
DTSTART;TZID=Europe/London:20240601T090000
DTEND;TZID=Europe/London:20240601T111500
DTSTAMP:20260424T060217
CREATED:20240605T122912Z
LAST-MODIFIED:20240605T122912Z
UID:11044-1717232400-1717240500@gorebridge.org.uk
SUMMARY:Sportif Judu (External)
DESCRIPTION:Judo class at the Gorebridge Beacon on Saturday mornings. \n\n9 – 9:45 5 – 6 years\n9:45 – 10:30 7 – 8 years\n10:30 – 11:15 9\,10\, 11 years\n\nThis is an external booking\, please contact Hannah for more information (exact times which may change). \nHannah Wood\nPro Coach & Project Coordinator\nSportif Lifestyle Ltd\n140 Galashiels Road\nStow\nTD1 2RA\nMbl: 07907 308876\nhannah@sportiflifestyle.com
URL:https://gorebridge.org.uk/upcomingevents/sportif-judu-external/2024-06-01/
CATEGORIES:Events,Gorebridge Beacon
END:VEVENT
END:VCALENDAR