BEGIN:VCALENDAR
VERSION:2.0
PRODID:-//Gorebridge Community Development Trust - ECPv6.15.20//NONSGML v1.0//EN
CALSCALE:GREGORIAN
METHOD:PUBLISH
X-WR-CALNAME:Gorebridge Community Development Trust
X-ORIGINAL-URL:https://gorebridge.org.uk
X-WR-CALDESC:Events for Gorebridge Community Development Trust
REFRESH-INTERVAL;VALUE=DURATION:PT1H
X-Robots-Tag:noindex
X-PUBLISHED-TTL:PT1H
BEGIN:VTIMEZONE
TZID:Europe/London
BEGIN:DAYLIGHT
TZOFFSETFROM:+0000
TZOFFSETTO:+0100
TZNAME:BST
DTSTART:20240331T010000
END:DAYLIGHT
BEGIN:STANDARD
TZOFFSETFROM:+0100
TZOFFSETTO:+0000
TZNAME:GMT
DTSTART:20241027T010000
END:STANDARD
BEGIN:DAYLIGHT
TZOFFSETFROM:+0000
TZOFFSETTO:+0100
TZNAME:BST
DTSTART:20250330T010000
END:DAYLIGHT
BEGIN:STANDARD
TZOFFSETFROM:+0100
TZOFFSETTO:+0000
TZNAME:GMT
DTSTART:20251026T010000
END:STANDARD
BEGIN:DAYLIGHT
TZOFFSETFROM:+0000
TZOFFSETTO:+0100
TZNAME:BST
DTSTART:20260329T010000
END:DAYLIGHT
BEGIN:STANDARD
TZOFFSETFROM:+0100
TZOFFSETTO:+0000
TZNAME:GMT
DTSTART:20261025T010000
END:STANDARD
END:VTIMEZONE
BEGIN:VEVENT
DTSTART;TZID=Europe/London:20250806T123000
DTEND;TZID=Europe/London:20250806T143000
DTSTAMP:20260424T064532
CREATED:20250730T142607Z
LAST-MODIFIED:20250730T142607Z
UID:13648-1754483400-1754490600@gorebridge.org.uk
SUMMARY:Summer Community/Family Picnics
DESCRIPTION:Community/Family picnics at the Beacon (18th and 25th July\, 1st and 8th Aug). We will provide the picnic (which will not look like the one in the picture\, that was a freebie download). \nYou will need a blanket to sit on etc. \nBook: 01875 816320 (so know how many rounds of sarnies to make).
URL:https://gorebridge.org.uk/upcomingevents/summer-community-family-picnics/2025-08-06/
LOCATION:Gorebridge Beacon
END:VEVENT
BEGIN:VEVENT
DTSTART;TZID=Europe/London:20250730T123000
DTEND;TZID=Europe/London:20250730T143000
DTSTAMP:20260424T064532
CREATED:20250730T142607Z
LAST-MODIFIED:20250730T142607Z
UID:13647-1753878600-1753885800@gorebridge.org.uk
SUMMARY:Summer Community/Family Picnics
DESCRIPTION:Community/Family picnics at the Beacon (18th and 25th July\, 1st and 8th Aug). We will provide the picnic (which will not look like the one in the picture\, that was a freebie download). \nYou will need a blanket to sit on etc. \nBook: 01875 816320 (so know how many rounds of sarnies to make).
URL:https://gorebridge.org.uk/upcomingevents/summer-community-family-picnics/2025-07-30/
LOCATION:Gorebridge Beacon
END:VEVENT
BEGIN:VEVENT
DTSTART;TZID=Europe/London:20250723T123000
DTEND;TZID=Europe/London:20250723T143000
DTSTAMP:20260424T064532
CREATED:20250730T142607Z
LAST-MODIFIED:20250730T142607Z
UID:13646-1753273800-1753281000@gorebridge.org.uk
SUMMARY:Summer Community/Family Picnics
DESCRIPTION:Community/Family picnics at the Beacon (18th and 25th July\, 1st and 8th Aug). We will provide the picnic (which will not look like the one in the picture\, that was a freebie download). \nYou will need a blanket to sit on etc. \nBook: 01875 816320 (so know how many rounds of sarnies to make).
URL:https://gorebridge.org.uk/upcomingevents/summer-community-family-picnics/2025-07-23/
LOCATION:Gorebridge Beacon
END:VEVENT
BEGIN:VEVENT
DTSTART;TZID=Europe/London:20250718T123000
DTEND;TZID=Europe/London:20250718T143000
DTSTAMP:20260424T064532
CREATED:20250730T142607Z
LAST-MODIFIED:20250730T142607Z
UID:13645-1752841800-1752849000@gorebridge.org.uk
SUMMARY:Summer Community/Family Picnics
DESCRIPTION:Community/Family picnics at the Beacon (18th and 25th July\, 1st and 8th Aug). We will provide the picnic (which will not look like the one in the picture\, that was a freebie download). \nYou will need a blanket to sit on etc. \nBook: 01875 816320 (so know how many rounds of sarnies to make).
URL:https://gorebridge.org.uk/upcomingevents/summer-community-family-picnics/2025-07-18/
LOCATION:Gorebridge Beacon
END:VEVENT
END:VCALENDAR