BEGIN:VCALENDAR
VERSION:2.0
PRODID:-//Gorebridge Community Development Trust - ECPv6.15.20//NONSGML v1.0//EN
CALSCALE:GREGORIAN
METHOD:PUBLISH
X-ORIGINAL-URL:https://gorebridge.org.uk
X-WR-CALDESC:Events for Gorebridge Community Development Trust
REFRESH-INTERVAL;VALUE=DURATION:PT1H
X-Robots-Tag:noindex
X-PUBLISHED-TTL:PT1H
BEGIN:VTIMEZONE
TZID:Europe/London
BEGIN:DAYLIGHT
TZOFFSETFROM:+0000
TZOFFSETTO:+0100
TZNAME:BST
DTSTART:20170326T010000
END:DAYLIGHT
BEGIN:STANDARD
TZOFFSETFROM:+0100
TZOFFSETTO:+0000
TZNAME:GMT
DTSTART:20171029T010000
END:STANDARD
BEGIN:DAYLIGHT
TZOFFSETFROM:+0000
TZOFFSETTO:+0100
TZNAME:BST
DTSTART:20180325T010000
END:DAYLIGHT
BEGIN:STANDARD
TZOFFSETFROM:+0100
TZOFFSETTO:+0000
TZNAME:GMT
DTSTART:20181028T010000
END:STANDARD
BEGIN:DAYLIGHT
TZOFFSETFROM:+0000
TZOFFSETTO:+0100
TZNAME:BST
DTSTART:20190331T010000
END:DAYLIGHT
BEGIN:STANDARD
TZOFFSETFROM:+0100
TZOFFSETTO:+0000
TZNAME:GMT
DTSTART:20191027T010000
END:STANDARD
END:VTIMEZONE
BEGIN:VEVENT
DTSTART;TZID=Europe/London:20180816T110000
DTEND;TZID=Europe/London:20180816T153000
DTSTAMP:20260423T202740
CREATED:20180703T180400Z
LAST-MODIFIED:20180703T180400Z
UID:2504-1534417200-1534433400@gorebridge.org.uk
SUMMARY:Dogs Trust Community Event
DESCRIPTION:The Dogs Trust will be in Gorebridge on Thursday the 16th August between 11 – 3 pm at Arniston Park. \nThis is a community event\, a veterinary nurse will carry out a basic health check\, which includes checking eyes\, ears\, teeth and weight\, to make sure your dog is happy\, fit and healthy. Alongside the health check\, the team will provide advice on diet\, training and neutering. Each owner will be provided with a responsible dog ownership pack\, including handy tips and useful resources for you to continue to use at home. \n\nThe Community Events team offer free on-the-spot microchipping for dogs that aren’t yet chipped (microchipping is a legal requirement as of April 2016). They can also advise you about changing your microchip details should it be needed. \nPS: if you offer local dog training\, agility\, dog walking\, grooming and you want to attend the event please do get in touch 01875 823202 \n\nVisit the Dogs Trust here
URL:https://gorebridge.org.uk/upcomingevents/dogs-trust-community-event/
ATTACH;FMTTYPE=image/png:https://gorebridge.org.uk/wp-content/uploads/2018/07/thumbnail.png
END:VEVENT
END:VCALENDAR