BEGIN:VCALENDAR
VERSION:2.0
PRODID:-//Gorebridge Community Development Trust - ECPv6.15.20//NONSGML v1.0//EN
CALSCALE:GREGORIAN
METHOD:PUBLISH
X-ORIGINAL-URL:https://gorebridge.org.uk
X-WR-CALDESC:Events for Gorebridge Community Development Trust
REFRESH-INTERVAL;VALUE=DURATION:PT1H
X-Robots-Tag:noindex
X-PUBLISHED-TTL:PT1H
BEGIN:VTIMEZONE
TZID:Europe/London
BEGIN:DAYLIGHT
TZOFFSETFROM:+0000
TZOFFSETTO:+0100
TZNAME:BST
DTSTART:20230326T010000
END:DAYLIGHT
BEGIN:STANDARD
TZOFFSETFROM:+0100
TZOFFSETTO:+0000
TZNAME:GMT
DTSTART:20231029T010000
END:STANDARD
BEGIN:DAYLIGHT
TZOFFSETFROM:+0000
TZOFFSETTO:+0100
TZNAME:BST
DTSTART:20240331T010000
END:DAYLIGHT
BEGIN:STANDARD
TZOFFSETFROM:+0100
TZOFFSETTO:+0000
TZNAME:GMT
DTSTART:20241027T010000
END:STANDARD
BEGIN:DAYLIGHT
TZOFFSETFROM:+0000
TZOFFSETTO:+0100
TZNAME:BST
DTSTART:20250330T010000
END:DAYLIGHT
BEGIN:STANDARD
TZOFFSETFROM:+0100
TZOFFSETTO:+0000
TZNAME:GMT
DTSTART:20251026T010000
END:STANDARD
END:VTIMEZONE
BEGIN:VEVENT
DTSTART;TZID=Europe/London:20240718T100000
DTEND;TZID=Europe/London:20240718T120000
DTSTAMP:20260424T143650
CREATED:20240506T115618Z
LAST-MODIFIED:20240507T121400Z
UID:10909-1721296800-1721304000@gorebridge.org.uk
SUMMARY:The Oasis Bereavement Support Group
DESCRIPTION:This is a self-help support group for people experiencing grief and loss. \nCome along for a coffee and chat at the Beacon\, Hunterfield Road\, Gorebridge.
URL:https://gorebridge.org.uk/upcomingevents/the-oasis/2024-07-18/
END:VEVENT
BEGIN:VEVENT
DTSTART;TZID=Europe/London:20240704T100000
DTEND;TZID=Europe/London:20240704T120000
DTSTAMP:20260424T143650
CREATED:20240506T115618Z
LAST-MODIFIED:20240507T121357Z
UID:10908-1720087200-1720094400@gorebridge.org.uk
SUMMARY:The Oasis Bereavement Support Group
DESCRIPTION:This is a self-help support group for people experiencing grief and loss. \nCome along for a coffee and chat at the Beacon\, Hunterfield Road\, Gorebridge.
URL:https://gorebridge.org.uk/upcomingevents/the-oasis/2024-07-04/
END:VEVENT
BEGIN:VEVENT
DTSTART;TZID=Europe/London:20240620T100000
DTEND;TZID=Europe/London:20240620T120000
DTSTAMP:20260424T143650
CREATED:20240506T115618Z
LAST-MODIFIED:20240507T121355Z
UID:10907-1718877600-1718884800@gorebridge.org.uk
SUMMARY:The Oasis Bereavement Support Group
DESCRIPTION:This is a self-help support group for people experiencing grief and loss. \nCome along for a coffee and chat at the Beacon\, Hunterfield Road\, Gorebridge.
URL:https://gorebridge.org.uk/upcomingevents/the-oasis/2024-06-20/
END:VEVENT
BEGIN:VEVENT
DTSTART;TZID=Europe/London:20240606T100000
DTEND;TZID=Europe/London:20240606T120000
DTSTAMP:20260424T143650
CREATED:20240506T115618Z
LAST-MODIFIED:20240507T121352Z
UID:10906-1717668000-1717675200@gorebridge.org.uk
SUMMARY:The Oasis Bereavement Support Group
DESCRIPTION:This is a self-help support group for people experiencing grief and loss. \nCome along for a coffee and chat at the Beacon\, Hunterfield Road\, Gorebridge.
URL:https://gorebridge.org.uk/upcomingevents/the-oasis/2024-06-06/
END:VEVENT
BEGIN:VEVENT
DTSTART;TZID=Europe/London:20240523T100000
DTEND;TZID=Europe/London:20240523T120000
DTSTAMP:20260424T143650
CREATED:20240506T115618Z
LAST-MODIFIED:20240507T121350Z
UID:10905-1716458400-1716465600@gorebridge.org.uk
SUMMARY:The Oasis Bereavement Support Group
DESCRIPTION:This is a self-help support group for people experiencing grief and loss. \nCome along for a coffee and chat at the Beacon\, Hunterfield Road\, Gorebridge.
URL:https://gorebridge.org.uk/upcomingevents/the-oasis/2024-05-23/
END:VEVENT
BEGIN:VEVENT
DTSTART;TZID=Europe/London:20240509T100000
DTEND;TZID=Europe/London:20240509T120000
DTSTAMP:20260424T143650
CREATED:20240506T115618Z
LAST-MODIFIED:20240507T121339Z
UID:10904-1715248800-1715256000@gorebridge.org.uk
SUMMARY:The Oasis Bereavement Support Group
DESCRIPTION:This is a self-help support group for people experiencing grief and loss. \nCome along for a coffee and chat at the Beacon\, Hunterfield Road\, Gorebridge.
URL:https://gorebridge.org.uk/upcomingevents/the-oasis/2024-05-09/
END:VEVENT
END:VCALENDAR