BEGIN:VCALENDAR
VERSION:2.0
PRODID:-//Gorebridge Community Development Trust - ECPv6.15.20//NONSGML v1.0//EN
CALSCALE:GREGORIAN
METHOD:PUBLISH
X-ORIGINAL-URL:https://gorebridge.org.uk
X-WR-CALDESC:Events for Gorebridge Community Development Trust
REFRESH-INTERVAL;VALUE=DURATION:PT1H
X-Robots-Tag:noindex
X-PUBLISHED-TTL:PT1H
BEGIN:VTIMEZONE
TZID:Europe/London
BEGIN:DAYLIGHT
TZOFFSETFROM:+0000
TZOFFSETTO:+0100
TZNAME:BST
DTSTART:20240331T010000
END:DAYLIGHT
BEGIN:STANDARD
TZOFFSETFROM:+0100
TZOFFSETTO:+0000
TZNAME:GMT
DTSTART:20241027T010000
END:STANDARD
BEGIN:DAYLIGHT
TZOFFSETFROM:+0000
TZOFFSETTO:+0100
TZNAME:BST
DTSTART:20250330T010000
END:DAYLIGHT
BEGIN:STANDARD
TZOFFSETFROM:+0100
TZOFFSETTO:+0000
TZNAME:GMT
DTSTART:20251026T010000
END:STANDARD
BEGIN:DAYLIGHT
TZOFFSETFROM:+0000
TZOFFSETTO:+0100
TZNAME:BST
DTSTART:20260329T010000
END:DAYLIGHT
BEGIN:STANDARD
TZOFFSETFROM:+0100
TZOFFSETTO:+0000
TZNAME:GMT
DTSTART:20261025T010000
END:STANDARD
END:VTIMEZONE
BEGIN:VEVENT
DTSTART;TZID=Europe/London:20251126T180000
DTEND;TZID=Europe/London:20251126T200000
DTSTAMP:20260424T101554
CREATED:20250901T130606Z
LAST-MODIFIED:20251013T105153Z
UID:13749-1764180000-1764187200@gorebridge.org.uk
SUMMARY:Volunteer Information Evening
DESCRIPTION:GCDT is a community development trust dedicated to creating opportunities and improving outcomes for the local community of Gorebridge. GCDT runs a wide range of different projects (including the Gorebridge Beacon) that share one key thing in common: the creation of long-term solutions for local people. But we cannot do it alone. \nOur VIP’s (volunteers) come from all walks of life\, have unique stories\, skills and experience. They help everywhere: in the community pantry\, community cafe\, community garden\, with events\, maintenance\, social media\, act as Trustees. \nWhat would you like to bring/offer? For a informal chat call Dawn on 01875 816320 or why not attend one of our open evenings at the Gorebridge Beacon? They are drop in\, anytime between 6PM and 8PM. They are held on the last Wednesday of the month.  \nThe remaining dates for 2025 are: \n\nWednesday 29th October\nWednesday 26th November\n\nLet us know to expect you by completing the form below:
URL:https://gorebridge.org.uk/upcomingevents/volunteer-information-evening/2025-11-26/
ATTACH;FMTTYPE=image/png:https://gorebridge.org.uk/wp-content/uploads/2025/09/Volunteer-Information-Evening-1.png
END:VEVENT
BEGIN:VEVENT
DTSTART;TZID=Europe/London:20251029T180000
DTEND;TZID=Europe/London:20251029T200000
DTSTAMP:20260424T101554
CREATED:20250901T130606Z
LAST-MODIFIED:20251013T105151Z
UID:13748-1761760800-1761768000@gorebridge.org.uk
SUMMARY:Volunteer Information Evening
DESCRIPTION:GCDT is a community development trust dedicated to creating opportunities and improving outcomes for the local community of Gorebridge. GCDT runs a wide range of different projects (including the Gorebridge Beacon) that share one key thing in common: the creation of long-term solutions for local people. But we cannot do it alone. \nOur VIP’s (volunteers) come from all walks of life\, have unique stories\, skills and experience. They help everywhere: in the community pantry\, community cafe\, community garden\, with events\, maintenance\, social media\, act as Trustees. \nWhat would you like to bring/offer? For a informal chat call Dawn on 01875 816320 or why not attend one of our open evenings at the Gorebridge Beacon? They are drop in\, anytime between 6PM and 8PM. They are held on the last Wednesday of the month.  \nThe remaining dates for 2025 are: \n\nWednesday 29th October\nWednesday 26th November\n\nLet us know to expect you by completing the form below:
URL:https://gorebridge.org.uk/upcomingevents/volunteer-information-evening/2025-10-29/
ATTACH;FMTTYPE=image/png:https://gorebridge.org.uk/wp-content/uploads/2025/09/Volunteer-Information-Evening-1.png
END:VEVENT
BEGIN:VEVENT
DTSTART;TZID=Europe/London:20250924T180000
DTEND;TZID=Europe/London:20250924T200000
DTSTAMP:20260424T101554
CREATED:20250901T130606Z
LAST-MODIFIED:20251013T105143Z
UID:13745-1758736800-1758744000@gorebridge.org.uk
SUMMARY:Volunteer Information Evening
DESCRIPTION:GCDT is a community development trust dedicated to creating opportunities and improving outcomes for the local community of Gorebridge. GCDT runs a wide range of different projects (including the Gorebridge Beacon) that share one key thing in common: the creation of long-term solutions for local people. But we cannot do it alone. \nOur VIP’s (volunteers) come from all walks of life\, have unique stories\, skills and experience. They help everywhere: in the community pantry\, community cafe\, community garden\, with events\, maintenance\, social media\, act as Trustees. \nWhat would you like to bring/offer? For a informal chat call Dawn on 01875 816320 or why not attend one of our open evenings at the Gorebridge Beacon? They are drop in\, anytime between 6PM and 8PM. They are held on the last Wednesday of the month.  \nThe remaining dates for 2025 are: \n\nWednesday 29th October\nWednesday 26th November\n\nLet us know to expect you by completing the form below:
URL:https://gorebridge.org.uk/upcomingevents/volunteer-information-evening/2025-09-24/
ATTACH;FMTTYPE=image/png:https://gorebridge.org.uk/wp-content/uploads/2025/09/Volunteer-Information-Evening-1.png
END:VEVENT
END:VCALENDAR