BEGIN:VCALENDAR
VERSION:2.0
PRODID:-//Gorebridge Community Development Trust - ECPv6.15.20//NONSGML v1.0//EN
CALSCALE:GREGORIAN
METHOD:PUBLISH
X-ORIGINAL-URL:https://gorebridge.org.uk
X-WR-CALDESC:Events for Gorebridge Community Development Trust
REFRESH-INTERVAL;VALUE=DURATION:PT1H
X-Robots-Tag:noindex
X-PUBLISHED-TTL:PT1H
BEGIN:VTIMEZONE
TZID:Europe/London
BEGIN:DAYLIGHT
TZOFFSETFROM:+0000
TZOFFSETTO:+0100
TZNAME:BST
DTSTART:20180325T010000
END:DAYLIGHT
BEGIN:STANDARD
TZOFFSETFROM:+0100
TZOFFSETTO:+0000
TZNAME:GMT
DTSTART:20181028T010000
END:STANDARD
BEGIN:DAYLIGHT
TZOFFSETFROM:+0000
TZOFFSETTO:+0100
TZNAME:BST
DTSTART:20190331T010000
END:DAYLIGHT
BEGIN:STANDARD
TZOFFSETFROM:+0100
TZOFFSETTO:+0000
TZNAME:GMT
DTSTART:20191027T010000
END:STANDARD
BEGIN:DAYLIGHT
TZOFFSETFROM:+0000
TZOFFSETTO:+0100
TZNAME:BST
DTSTART:20200329T010000
END:DAYLIGHT
BEGIN:STANDARD
TZOFFSETFROM:+0100
TZOFFSETTO:+0000
TZNAME:GMT
DTSTART:20201025T010000
END:STANDARD
END:VTIMEZONE
BEGIN:VEVENT
DTSTART;TZID=Europe/London:20190331T120000
DTEND;TZID=Europe/London:20190331T140000
DTSTAMP:20260424T030040
CREATED:20180530T192300Z
LAST-MODIFIED:20190227T125743Z
UID:2176-1554033600-1554040800@gorebridge.org.uk
SUMMARY:Woodland Wildlings
DESCRIPTION:The Woodland Wildlings is a project for children aged up to 5 years. It’s an opportunity for families with pre-school children to come along and join in forest school and nature play activities. \nThere’s no need to book just come along at 10 am (Drop In) to the Pop-Up Beacon at the bottom of the Main Street (Old Bank). \nThese sessions are being led by  Laura Lagerman\, an experienced early years practitioner. \nFor more information please contact lorna.lagerman@gorebridge.org.uk or visit Woodland Wildlings on Facebook here. \n 
URL:https://gorebridge.org.uk/upcomingevents/woodland-wildlings-5/2019-03-31/
LOCATION:55 main street\, Gorebridge\, United Kingdom
CATEGORIES:Garden,Gorebridge Beacon,Wellbeing,Woodland Wildlings
ATTACH;FMTTYPE=image/png:https://gorebridge.org.uk/wp-content/uploads/2018/05/Woodland-Wildlings.png
END:VEVENT
END:VCALENDAR