BEGIN:VCALENDAR
VERSION:2.0
PRODID:-//Gorebridge Community Development Trust - ECPv6.15.20//NONSGML v1.0//EN
CALSCALE:GREGORIAN
METHOD:PUBLISH
X-WR-CALNAME:Gorebridge Community Development Trust
X-ORIGINAL-URL:https://gorebridge.org.uk
X-WR-CALDESC:Events for Gorebridge Community Development Trust
REFRESH-INTERVAL;VALUE=DURATION:PT1H
X-Robots-Tag:noindex
X-PUBLISHED-TTL:PT1H
BEGIN:VTIMEZONE
TZID:Europe/London
BEGIN:DAYLIGHT
TZOFFSETFROM:+0000
TZOFFSETTO:+0100
TZNAME:BST
DTSTART:20180325T010000
END:DAYLIGHT
BEGIN:STANDARD
TZOFFSETFROM:+0100
TZOFFSETTO:+0000
TZNAME:GMT
DTSTART:20181028T010000
END:STANDARD
BEGIN:DAYLIGHT
TZOFFSETFROM:+0000
TZOFFSETTO:+0100
TZNAME:BST
DTSTART:20190331T010000
END:DAYLIGHT
BEGIN:STANDARD
TZOFFSETFROM:+0100
TZOFFSETTO:+0000
TZNAME:GMT
DTSTART:20191027T010000
END:STANDARD
BEGIN:DAYLIGHT
TZOFFSETFROM:+0000
TZOFFSETTO:+0100
TZNAME:BST
DTSTART:20200329T010000
END:DAYLIGHT
BEGIN:STANDARD
TZOFFSETFROM:+0100
TZOFFSETTO:+0000
TZNAME:GMT
DTSTART:20201025T010000
END:STANDARD
END:VTIMEZONE
BEGIN:VEVENT
DTSTART;TZID=Europe/London:20191207T100000
DTEND;TZID=Europe/London:20191207T120000
DTSTAMP:20260424T125625
CREATED:20191113T004218Z
LAST-MODIFIED:20191113T004218Z
UID:4213-1575712800-1575720000@gorebridge.org.uk
SUMMARY:Wreath Making Workshop
DESCRIPTION:This Christmas get creative\, have fun and make something really personal for your home when you join our popular Christmas wreath making workshops. \nThis is a social workshop and we will provide you with all the materials you need for your fresh wreath. All wreath workshop class sizes are small (10 maximum)\, this means that whether you are a wreath-making novice or seasoned expert\, you can create a wreath to be proud of. \nWe are running two workshops on the 7th December\, both sessions last approximately 2 hours. The first session is 10 – 12 and the second runs 1 – 3\, both sessions includes refreshments and light lunch (12 – 1) in the cafe. \nPrice:  \n£20 per person\, payable at time of booking. Includes workshop\, all materials and light lunch/refreshments. \nHow to Book \nBook and pay for your place today on EventBrite\, or by calling into the Beacon to book your spot. \n  \n  \n 
URL:https://gorebridge.org.uk/upcomingevents/wreath-making-workshop/2019-12-07/
LOCATION:Gorebridge Beacon
CATEGORIES:Beacon,Gorebridge Beacon
ATTACH;FMTTYPE=image/png:https://gorebridge.org.uk/wp-content/uploads/2019/11/wreath-making-workshop-2.png
END:VEVENT
END:VCALENDAR