BEGIN:VCALENDAR
VERSION:2.0
PRODID:-//Gorebridge Community Development Trust - ECPv6.15.20//NONSGML v1.0//EN
CALSCALE:GREGORIAN
METHOD:PUBLISH
X-WR-CALNAME:Gorebridge Community Development Trust
X-ORIGINAL-URL:https://gorebridge.org.uk
X-WR-CALDESC:Events for Gorebridge Community Development Trust
REFRESH-INTERVAL;VALUE=DURATION:PT1H
X-Robots-Tag:noindex
X-PUBLISHED-TTL:PT1H
BEGIN:VTIMEZONE
TZID:Europe/London
BEGIN:DAYLIGHT
TZOFFSETFROM:+0000
TZOFFSETTO:+0100
TZNAME:BST
DTSTART:20200329T010000
END:DAYLIGHT
BEGIN:STANDARD
TZOFFSETFROM:+0100
TZOFFSETTO:+0000
TZNAME:GMT
DTSTART:20201025T010000
END:STANDARD
BEGIN:DAYLIGHT
TZOFFSETFROM:+0000
TZOFFSETTO:+0100
TZNAME:BST
DTSTART:20210328T010000
END:DAYLIGHT
BEGIN:STANDARD
TZOFFSETFROM:+0100
TZOFFSETTO:+0000
TZNAME:GMT
DTSTART:20211031T010000
END:STANDARD
BEGIN:DAYLIGHT
TZOFFSETFROM:+0000
TZOFFSETTO:+0100
TZNAME:BST
DTSTART:20220327T010000
END:DAYLIGHT
BEGIN:STANDARD
TZOFFSETFROM:+0100
TZOFFSETTO:+0000
TZNAME:GMT
DTSTART:20221030T010000
END:STANDARD
END:VTIMEZONE
BEGIN:VEVENT
DTSTART;TZID=Europe/London:20210515T112000
DTEND;TZID=Europe/London:20210515T120000
DTSTAMP:20260424T143141
CREATED:20210511T095621Z
LAST-MODIFIED:20210511T095821Z
UID:5992-1621077600-1621080000@gorebridge.org.uk
SUMMARY:Youth Drama
DESCRIPTION:[External User of the Beacon] \nDrama class focusing on acting and stagecraft. \nMake new friends\, learn new skills and build your confidence. These classes look at all aspects of drama and acting. Both acting for stage and acting for camera. Our students also learn the fundamentals of stagecraft and what goes on behind the scenes and behind the camera. Improvisation and script work are the main focus. We’re providing training for the professionals of the future. \n£5.50 per class. Your first class is offered at half price (£2.75) and at the moment when you book a block of ten classes you get two classes free. This means your first block of ten will cost £41.75. This takes your trial class into consideration.
URL:https://gorebridge.org.uk/upcomingevents/youth-drama/2021-05-15/
LOCATION:Gorebridge Beacon
ORGANIZER;CN="Mari Paterson":MAILTO:behappyperforming@hotmail.com
END:VEVENT
END:VCALENDAR