BEGIN:VCALENDAR
VERSION:2.0
PRODID:-//Gorebridge Community Development Trust - ECPv6.15.20//NONSGML v1.0//EN
CALSCALE:GREGORIAN
METHOD:PUBLISH
X-ORIGINAL-URL:https://gorebridge.org.uk
X-WR-CALDESC:Events for Gorebridge Community Development Trust
REFRESH-INTERVAL;VALUE=DURATION:PT1H
X-Robots-Tag:noindex
X-PUBLISHED-TTL:PT1H
BEGIN:VTIMEZONE
TZID:Europe/London
BEGIN:DAYLIGHT
TZOFFSETFROM:+0000
TZOFFSETTO:+0100
TZNAME:BST
DTSTART:20150329T010000
END:DAYLIGHT
BEGIN:STANDARD
TZOFFSETFROM:+0100
TZOFFSETTO:+0000
TZNAME:GMT
DTSTART:20151025T010000
END:STANDARD
BEGIN:DAYLIGHT
TZOFFSETFROM:+0000
TZOFFSETTO:+0100
TZNAME:BST
DTSTART:20160327T010000
END:DAYLIGHT
BEGIN:STANDARD
TZOFFSETFROM:+0100
TZOFFSETTO:+0000
TZNAME:GMT
DTSTART:20161030T010000
END:STANDARD
BEGIN:DAYLIGHT
TZOFFSETFROM:+0000
TZOFFSETTO:+0100
TZNAME:BST
DTSTART:20170326T010000
END:DAYLIGHT
BEGIN:STANDARD
TZOFFSETFROM:+0100
TZOFFSETTO:+0000
TZNAME:GMT
DTSTART:20171029T010000
END:STANDARD
BEGIN:DAYLIGHT
TZOFFSETFROM:+0000
TZOFFSETTO:+0100
TZNAME:BST
DTSTART:20180325T010000
END:DAYLIGHT
BEGIN:STANDARD
TZOFFSETFROM:+0100
TZOFFSETTO:+0000
TZNAME:GMT
DTSTART:20181028T010000
END:STANDARD
BEGIN:DAYLIGHT
TZOFFSETFROM:+0000
TZOFFSETTO:+0100
TZNAME:BST
DTSTART:20190331T010000
END:DAYLIGHT
BEGIN:STANDARD
TZOFFSETFROM:+0100
TZOFFSETTO:+0000
TZNAME:GMT
DTSTART:20191027T010000
END:STANDARD
BEGIN:DAYLIGHT
TZOFFSETFROM:+0000
TZOFFSETTO:+0100
TZNAME:BST
DTSTART:20200329T010000
END:DAYLIGHT
BEGIN:STANDARD
TZOFFSETFROM:+0100
TZOFFSETTO:+0000
TZNAME:GMT
DTSTART:20201025T010000
END:STANDARD
BEGIN:DAYLIGHT
TZOFFSETFROM:+0000
TZOFFSETTO:+0100
TZNAME:BST
DTSTART:20210328T010000
END:DAYLIGHT
BEGIN:STANDARD
TZOFFSETFROM:+0100
TZOFFSETTO:+0000
TZNAME:GMT
DTSTART:20211031T010000
END:STANDARD
BEGIN:DAYLIGHT
TZOFFSETFROM:+0000
TZOFFSETTO:+0100
TZNAME:BST
DTSTART:20220327T010000
END:DAYLIGHT
BEGIN:STANDARD
TZOFFSETFROM:+0100
TZOFFSETTO:+0000
TZNAME:GMT
DTSTART:20221030T010000
END:STANDARD
BEGIN:DAYLIGHT
TZOFFSETFROM:+0000
TZOFFSETTO:+0100
TZNAME:BST
DTSTART:20230326T010000
END:DAYLIGHT
BEGIN:STANDARD
TZOFFSETFROM:+0100
TZOFFSETTO:+0000
TZNAME:GMT
DTSTART:20231029T010000
END:STANDARD
BEGIN:DAYLIGHT
TZOFFSETFROM:+0000
TZOFFSETTO:+0100
TZNAME:BST
DTSTART:20240331T010000
END:DAYLIGHT
BEGIN:STANDARD
TZOFFSETFROM:+0100
TZOFFSETTO:+0000
TZNAME:GMT
DTSTART:20241027T010000
END:STANDARD
END:VTIMEZONE
BEGIN:VEVENT
DTSTART;TZID=Europe/London:20230214T080000
DTEND;TZID=Europe/London:20230214T170000
DTSTAMP:20260423T211251
CREATED:20230111T101818Z
LAST-MODIFIED:20230127T134453Z
UID:9795-1676361600-1676394000@gorebridge.org.uk
SUMMARY:Valentines Day Cake Boxes
DESCRIPTION:Love is in the air….. \nShona and Emily our fantastic trainees are developing valentines or galentines cake boxes as part of their training.  Each box will contain enough treats for 2 people cake\, biscuits and of course chocs!  The young people will be learning lots of new skills\, in baking and sugarcraft and I’m sure that our regulars will attest to the end product is sure to be amazing. \nThe products are going to be freshly prepared for valentines day itself – ordering closes in a few weeks and box numbers are limited.  Collection will be between 3-6pm on valentines day. \nWhat better way to show your love and support our young people in their journey.
URL:https://gorebridge.org.uk/upcomingevents/valentines/
LOCATION:Gorebridge Community Development Trust\, Gorebridge Beacon\, Gorebridge\, Midlothian\, EH23 4TT
END:VEVENT
BEGIN:VEVENT
DTSTART;TZID=Europe/London:20180605T103000
DTEND;TZID=Europe/London:20180605T150000
DTSTAMP:20260423T211251
CREATED:20180523T142045Z
LAST-MODIFIED:20180523T142808Z
UID:2136-1528194600-1528210800@gorebridge.org.uk
SUMMARY:Cycle and Forage
DESCRIPTION:Greening Gorebridge is going on a spring cycle and forage along the River Esk \nMeet us at 58 Main Street\, Gorebridge at 10.30am or Dalkeith School Campus at 11.10am \nContact Michaela 07769691024 or sam@gorebridge.org.uk \n 
URL:https://gorebridge.org.uk/upcomingevents/cycle-and-forage/
LOCATION:Gorebridge Community Development Trust\, Gorebridge Beacon\, Gorebridge\, Midlothian\, EH23 4TT
ORGANIZER;CN="Greening Gorebridge":MAILTO:michaela.jackson@gorebridge.org.uk
END:VEVENT
BEGIN:VEVENT
DTSTART;TZID=Europe/London:20180317T100000
DTEND;TZID=Europe/London:20180317T190000
DTSTAMP:20260423T211251
CREATED:20180307T120336Z
LAST-MODIFIED:20180307T120336Z
UID:2056-1521280800-1521313200@gorebridge.org.uk
SUMMARY:Musical Instrument Amnesty- drop-off at GCDT office
DESCRIPTION:As part of Pass it On Week\nWe are looking for musical instruments that need a new home! \nString\nwoodwind\npercussion\nbrass\nPlease NO large items like drum kits and keyboards/pianos as we have very limited storage space available. \nWe are paticularly interested in the possibility of collecting brass instruments since Gorebridge has a strong and proud mining background. \nWe will be looking to rehome the instruments with local schools and community groups. \nIf you are looking for a Musical Instrument for someone in your family please get in touch. \nEmail michaela.jackson@orebridge.org.uk\n\nOur drop off times will be: \nMonday 12th Mar- 10-1pm \nThursday 15th Mar- 10-7pm \nFriday 16th Mar- 10-1pm \nSat 17th Mar 2-7:30pm \nPlease let us know if you need any further information. email michaela.jackson@gorebridge.org.uk
URL:https://gorebridge.org.uk/upcomingevents/musical-instrument-amnesty-drop-off-at-gcdt-office-4/
LOCATION:Gorebridge Community Development Trust\, Gorebridge Beacon\, Gorebridge\, Midlothian\, EH23 4TT
CATEGORIES:Climate Challenge Fund,Greening Gorebridge
ORGANIZER;CN="Greening Gorebridge":MAILTO:michaela.jackson@gorebridge.org.uk
END:VEVENT
BEGIN:VEVENT
DTSTART;TZID=Europe/London:20180316T100000
DTEND;TZID=Europe/London:20180316T130000
DTSTAMP:20260423T211251
CREATED:20180307T120205Z
LAST-MODIFIED:20180307T120205Z
UID:2054-1521194400-1521205200@gorebridge.org.uk
SUMMARY:Musical instrument Amnesty- Drop-off at GCDT office
DESCRIPTION:As part of Pass it On Week\nWe are looking for musical instruments that need a new home! \nString\nwoodwind\npercussion\nbrass\nPlease NO large items like drum kits and keyboards/pianos as we have very limited storage space available. \nWe are paticularly interested in the possibility of collecting brass instruments since Gorebridge has a strong and proud mining background. \nWe will be looking to rehome the instruments with local schools and community groups. \nIf you are looking for a Musical Instrument for someone in your family please get in touch. \nEmail michaela.jackson@orebridge.org.uk\n\nOur drop off times will be: \nMonday 12th Mar- 10-1pm \nThursday 15th Mar- 10-7pm \nFriday 16th Mar- 10-1pm \nSat 17th Mar 2-7:30pm \nPlease let us know if you need any further information. email michaela.jackson@gorebridge.org.uk
URL:https://gorebridge.org.uk/upcomingevents/musical-instrument-amnesty-drop-off-at-gcdt-office-3/
LOCATION:Gorebridge Community Development Trust\, Gorebridge Beacon\, Gorebridge\, Midlothian\, EH23 4TT
CATEGORIES:Climate Challenge Fund,Greening Gorebridge
ORGANIZER;CN="Greening Gorebridge":MAILTO:michaela.jackson@gorebridge.org.uk
END:VEVENT
BEGIN:VEVENT
DTSTART;TZID=Europe/London:20180315T100000
DTEND;TZID=Europe/London:20180315T190000
DTSTAMP:20260423T211251
CREATED:20180307T115947Z
LAST-MODIFIED:20180307T115947Z
UID:2052-1521108000-1521140400@gorebridge.org.uk
SUMMARY:Musical Instrument Amnesty- Drop-off at GCDT office
DESCRIPTION:As part of Pass it On Week\nWe are looking for musical instruments that need a new home! \nString\nwoodwind\npercussion\nbrass\nPlease NO large items like drum kits and keyboards/pianos as we have very limited storage space available. \nWe are paticularly interested in the possibility of collecting brass instruments since Gorebridge has a strong and proud mining background. \nWe will be looking to rehome the instruments with local schools and community groups. \nIf you are looking for a Musical Instrument for someone in your family please get in touch. \nEmail michaela.jackson@orebridge.org.uk\n\nOur drop off times will be: \nMonday 12th Mar- 10-1pm \nThursday 15th Mar- 10-7pm \nFriday 16th Mar- 10-1pm \nSat 17th Mar 2-7:30pm \nPlease let us know if you need any further information. email michaela.jackson@gorebridge.org.uk
URL:https://gorebridge.org.uk/upcomingevents/musical-instrument-amnesty-drop-off-at-gcdt-office-2/
LOCATION:Gorebridge Community Development Trust\, Gorebridge Beacon\, Gorebridge\, Midlothian\, EH23 4TT
CATEGORIES:Climate Challenge Fund,Greening Gorebridge
ORGANIZER;CN="Greening Gorebridge":MAILTO:michaela.jackson@gorebridge.org.uk
END:VEVENT
BEGIN:VEVENT
DTSTART;TZID=Europe/London:20180313T130000
DTEND;TZID=Europe/London:20180313T150000
DTSTAMP:20260423T211251
CREATED:20180223T120705Z
LAST-MODIFIED:20180223T155046Z
UID:1968-1520946000-1520953200@gorebridge.org.uk
SUMMARY:Gunpowder Town
DESCRIPTION:A led exploration of the ruinous remains of Stobhill Gunpowder works with focus of documentary and archaeological remains to tease out the history of the site. \nPlease wear footwear and clothing suitable for off path walking and uneven ground. \nJoin the project Archivist Sean Watson on walking history tours of Gorebridge. \nPlease contact sean.watson@gorebridge.org.uk for more details about this event.
URL:https://gorebridge.org.uk/upcomingevents/gunpowder-town/
LOCATION:Gorebridge Community Development Trust\, Gorebridge Beacon\, Gorebridge\, Midlothian\, EH23 4TT
CATEGORIES:Heritage
END:VEVENT
BEGIN:VEVENT
DTSTART;TZID=Europe/London:20161116T190000
DTEND;TZID=Europe/London:20161116T210000
DTSTAMP:20260423T211251
CREATED:20161103T221756Z
LAST-MODIFIED:20161103T221756Z
UID:1004-1479322800-1479330000@gorebridge.org.uk
SUMMARY:GADEG AGM Wednesday 16th November
DESCRIPTION:Gorebridge and District Environmental Group (G.A.D.E.G.) is having its Annual General Meeting on Wednesday 16th November 2016 \nAll are welcome to attend the meeting\, not just members\, and the location is the GCDT office at 58 Main Street\, Gorebridge.
URL:https://gorebridge.org.uk/upcomingevents/gadeg-agm-12th-november/
LOCATION:Gorebridge Community Development Trust\, Gorebridge Beacon\, Gorebridge\, Midlothian\, EH23 4TT
CATEGORIES:AGM,G.A.D.E.G
END:VEVENT
BEGIN:VEVENT
DTSTART;TZID=Europe/London:20161109T190000
DTEND;TZID=Europe/London:20161109T210000
DTSTAMP:20260423T211251
CREATED:20161020T212502Z
LAST-MODIFIED:20161020T212502Z
UID:961-1478718000-1478725200@gorebridge.org.uk
SUMMARY:AGM public meeting
DESCRIPTION:Our Annual General Meeting will take place on Wednesday 9th November 2016 at 7 pm in No.58 Main Street. \nEveryone welcome – not just members – to find what the trust is up to and has achieved this past year. \nRefreshments served \n 
URL:https://gorebridge.org.uk/upcomingevents/agm-public-meeting/
LOCATION:Gorebridge Community Development Trust\, Gorebridge Beacon\, Gorebridge\, Midlothian\, EH23 4TT
CATEGORIES:AGM
END:VEVENT
BEGIN:VEVENT
DTSTART;TZID=Europe/London:20161101T090000
DTEND;TZID=Europe/London:20161130T130000
DTSTAMP:20260423T211251
CREATED:20161103T221219Z
LAST-MODIFIED:20161103T221412Z
UID:1041-1477990800-1480510800@gorebridge.org.uk
SUMMARY:Foodbank Donation Point
DESCRIPTION:All November we are a collection point for Midlothian Foodbank  donations. \nFind out what items you can donate here
URL:https://gorebridge.org.uk/upcomingevents/foodbank-collection/
LOCATION:Gorebridge Community Development Trust\, Gorebridge Beacon\, Gorebridge\, Midlothian\, EH23 4TT
ATTACH;FMTTYPE=image/png:https://gorebridge.org.uk/wp-content/uploads/2016/11/Midlothian-logo-three-colour.png
END:VEVENT
END:VCALENDAR